BEGIN:VCALENDAR
VERSION:2.0
PRODID:icalendar-ruby
CALSCALE:GREGORIAN
METHOD:PUBLISH
BEGIN:VEVENT
DTSTAMP:20260422T141016Z
UID:120-560589@lifechapel.church
DTSTART:20260524T100000Z
DTEND:20260524T110000Z
CLASS:PUBLIC
CREATED:20260422T141613
DESCRIPTION:
LAST-MODIFIED:20260422T141613
LOCATION:3/24 Hammond RoadCockburn Central 6164 WAAU
SUMMARY:ENCOUNTER NIGHT
URL;VALUE=URI:https://www.lifechapel.church/events/encounter-night--120/202
 6-05-24
END:VEVENT
END:VCALENDAR
